BEGIN:VCALENDAR
VERSION:2.0
PRODID:-//Tukios.com/
BEGIN:VEVENT
UID:5d8cd484-1cf8-49b0-a898-a52c8a5ddaaf@www.legacyfirstfs.com
DTSTAMP:20260424T185758Z
DTSTART:20260508T150000Z
DTEND:20260508T160000Z
SUMMARY:Visitation
DESCRIPTION:
URL:https://www.legacyfirstfs.com/obituaries/bernard-benson
LOCATION: 1825 Woodland Ave  Columbus OH 43219
GEO:40.0059025;-82.9546478
END:VEVENT
END:VCALENDAR