BEGIN:VCALENDAR
VERSION:2.0
PRODID:-//Tukios.com/
BEGIN:VEVENT
UID:3e8697b1-4cfd-4089-9549-3656927b4f3c@www.legacyfirstfs.com
DTSTAMP:20260424T190542Z
DTSTART:20260508T160000Z
DTEND:20260508T170000Z
SUMMARY:Funeral Service
DESCRIPTION:
URL:https://www.legacyfirstfs.com/obituaries/bernard-benson
LOCATION: 1825 Woodland Ave  Columbus OH 43219
GEO:40.0059025;-82.9546478
END:VEVENT
END:VCALENDAR